BEGIN:VCALENDAR
VERSION:2.0
PRODID:-//wp-events-plugin.com//7.2.3.1//EN
TZID:Europe/Berlin
X-WR-TIMEZONE:Europe/Berlin
BEGIN:VEVENT
UID:285@unrast-verlag.de
DTSTART;TZID=Europe/Berlin:20250704T160000
DTEND;TZID=Europe/Berlin:20250704T180000
DTSTAMP:20250605T143549Z
URL:https://unrast-verlag.de/events/vortrag-haltung-zeigen-im-ehrenamt-awa
 renessarbeit-im-amateurinnensport-hamburg/
SUMMARY:Vortrag: Haltung zeigen im Ehrenamt – Awarenessarbeit im Amateur*
 innensport | Hamburg
DESCRIPTION:In einem Vortrag stellen Teile des Team Awareness des\nFC St. P
 auli Tischfußball ihre Arbeit im ehrenamtlich organisierten\nAmateur*inne
 nsport des FC St. Pauli vor. Gesprochen wird u.a. über den\nAufbau und di
 e Ziele von Awarenessstrukturen im Ehrenamt. Prozesse und\nHindernisse\, d
 ie mit dieser Arbeit einhergehen\, werden skizziert und es\nwird versucht 
 die Zuhörenden auf tief verankerte und strukturell\ndiskriminierende Must
 er aufmerksam zu machen.\nZu Gast ist die Autorin und Pionierin der Awaren
 essarbeit Ann Wiesental.\nSie liest aus ihrem aktuellen Buch „Haltung ze
 igen. Awareness als Antwort\nauf Diskriminierung und Gewalt“ (2025\, Unr
 ast Verlag) und gibt Einblicke in\nihre Arbeit.\n\nDer Eintritt ist frei.
ATTACH;FMTTYPE=image/jpeg:https://unrast-verlag.de/wp-content/uploads/2025
 /02/897716346_Haltung-zeigen.jpg
CATEGORIES:Vortrag &amp; Austausch
LOCATION:Millerntor Stadion (Ligaraum)\, Harald-Stender-Platz 1\, Hamburg\,
  Hamburg\, 20359\, Deutschland
GEO:53.553402;9.966431
X-APPLE-STRUCTURED-LOCATION;VALUE=URI;X-ADDRESS=Harald-Stender-Platz 1\, Ha
 mburg\, Hamburg\, 20359\, Deutschland;X-APPLE-RADIUS=100;X-TITLE=Millernto
 r Stadion (Ligaraum):geo:53.553402,9.966431
END:VEVENT
BEGIN:VTIMEZONE
TZID:Europe/Berlin
X-LIC-LOCATION:Europe/Berlin
BEGIN:DAYLIGHT
DTSTART:20250330T030000
TZOFFSETFROM:+0100
TZOFFSETTO:+0200
TZNAME:CEST
END:DAYLIGHT
END:VTIMEZONE
END:VCALENDAR