BEGIN:VCALENDAR
VERSION:2.0
PRODID:-//wp-events-plugin.com//7.2.3.1//EN
TZID:Europe/Berlin
X-WR-TIMEZONE:Europe/Berlin
BEGIN:VEVENT
UID:416@unrast-verlag.de
DTSTART;TZID=Europe/Berlin:20260430T200000
DTEND;TZID=Europe/Berlin:20260430T220000
DTSTAMP:20260413T100343Z
URL:https://unrast-verlag.de/events/lesung-und-ausstellung-mothering-berli
 n/
SUMMARY:Lesung und Ausstellung: Mothering - Berlin
DESCRIPTION:Mothering – Subversive Fürsorge als radikale Praxis ist eine
  Einladung und zugleich die Forderung\, Mothering als politische Praxis in
 s Zentrum gesellschaftlicher Auseinandersetzungen zu rücken. Mothering 
 – in Abgrenzung zu Begriffen wie Mutterschaft oder Elternschaft\, die ei
 nen Zustand beschreiben – ist eine Handlungspraxis der Beziehung und der
  Fürsorge\, die von vielen Positionen aus geschehen kann. Formen der Für
 sorge\, des Teilens und des Sich-Kümmerns sind keine Nebenschauplätze\, 
 sondern subversive\, radikale Praktiken\, auf die die Gesellschaft nicht v
 erzichten kann und darf.\n\nDieser Band versammelt Stimmen\, die Mothering
  in seiner Vielfalt sichtbar machen – als gelebte\, widerständige und z
 utiefst politische Praxis. Zwischen Gedichten\, theoretischen Reflexionen\
 , Gesprächen und Bildern entfaltet sich ein vielstimmiges Gewebe aus Erfa
 hrungen von Mothering und Nicht-Mothering\, von Care\, Verantwortung und W
 iderstand. Das Buch lenkt den Blick auf die oft unsichtbaren Realitäten v
 on Fürsorge und fragt nach den Möglichkeiten\, Mothering jenseits hegemo
 nialer\, vergeschlechtlichter und kolonial geprägter Normen zu denken. Mo
 thering erscheint hier als Form der Wissensweitergabe und als gegen-episte
 mische Praxis\, die in Beziehungen\, Gesten\, Routinen und Geschichten wei
 terlebt.
ATTACH;FMTTYPE=image/jpeg:https://unrast-verlag.de/wp-content/uploads/2026
 /03/897713642-Mothering-Rahmen.jpg
CATEGORIES:Lesung,Ausstellung
LOCATION:She said | Bookshop for female and queer authors\, Kottbusser Damm
  79\, Berlin\, 10967\, 
X-APPLE-STRUCTURED-LOCATION;VALUE=URI;X-ADDRESS=Kottbusser Damm 79\, Berlin
 \, 10967\, ;X-APPLE-RADIUS=100;X-TITLE=She said | Bookshop for female and 
 queer authors:geo:0,0
END:VEVENT
BEGIN:VTIMEZONE
TZID:Europe/Berlin
X-LIC-LOCATION:Europe/Berlin
BEGIN:DAYLIGHT
DTSTART:20260329T030000
TZOFFSETFROM:+0100
TZOFFSETTO:+0200
TZNAME:CEST
END:DAYLIGHT
END:VTIMEZONE
END:VCALENDAR