BEGIN:VCALENDAR
VERSION:2.0
PRODID:-//wp-events-plugin.com//7.2.3.1//EN
TZID:Europe/Berlin
X-WR-TIMEZONE:Europe/Berlin
BEGIN:VEVENT
UID:78@unrast-verlag.de
DTSTART;TZID=Europe/Berlin:20230711T190000
DTEND;TZID=Europe/Berlin:20230711T203000
DTSTAMP:20230626T074115Z
URL:https://unrast-verlag.de/events/die-kontroverse-symbiose-von-punkrock-
 und-anarchismus-crimethinc-writings-on-the-wall-duesseldorf/
SUMMARY:Die kontroverse Symbiose von Punkrock und Anarchismus - CrimethInc.
 : Writings on the Wall (Düsseldorf)
DESCRIPTION:CrimethInc. ist eine Allianz von Rebell:innen – ein dezentral
 es Netzwerk\, das sich dem Ausbruch aus den Gefängnissen unserer Zeit ver
 pflichtet hat und danach strebt\, die Welt nach den Prinzipien der Selbstb
 estimmung und der gegenseitigen Hilfe neu zu erfinden.\n\nMit Writings on 
 the Wall liegt nun eine weitere Sammlung von Texten vor\, die die Schwerpu
 nkte des Kollektivs widerspiegelt\, die sich in den vergangenen Jahren eta
 bliert haben: theoretische Essays über einen Anarchismus der Gegenwart\, 
 Berichte von bedeutsamen Protesten und Aufständen sowie Analysen der sozi
 alen Bewegungen der letzten Jahre.\nDer Vortrag wird das Thema - die kontr
 overse Symbiose von Punkrock und Anarchismus - aus dem Buch behandeln.\n\n
 Nun\, da wir uns nicht mehr darauf verlassen können\, dass die Punk-Subku
 ltur als ein Inkubator für Anarchist*innen fungiert\, sollten wir uns dar
 anmachen zu verstehen\, wie und warum Punk diese Rolle 30 Jahre lang inneh
 atte.\n\nEine Veranstaltung des Anarchistisches Projektkollektiv in Kooper
 ation mit dem Jugendclub Courage Köln.\n\n\nWeitere Infos hier.\n
ATTACH;FMTTYPE=image/jpeg:https://unrast-verlag.de/wp-content/uploads/2023
 /06/11_7_2023-1.png
CATEGORIES:Vortrag &amp; Diskussion
LOCATION:Linkes Zentrum | Hinterhof\, Corneliusstr. 108\, Düsseldorf\, Nor
 drhein-Westfalen\, 40215\, Deutschland
GEO:51.210573;6.782928
X-APPLE-STRUCTURED-LOCATION;VALUE=URI;X-ADDRESS=Corneliusstr. 108\, Düssel
 dorf\, Nordrhein-Westfalen\, 40215\, Deutschland;X-APPLE-RADIUS=100;X-TITL
 E=Linkes Zentrum | Hinterhof:geo:51.210573,6.782928
END:VEVENT
BEGIN:VTIMEZONE
TZID:Europe/Berlin
X-LIC-LOCATION:Europe/Berlin
BEGIN:DAYLIGHT
DTSTART:20230326T030000
TZOFFSETFROM:+0100
TZOFFSETTO:+0200
TZNAME:CEST
END:DAYLIGHT
END:VTIMEZONE
END:VCALENDAR